BEGIN:VCALENDAR
VERSION:2.0
PRODID:-//Bodegas y Viñedos Verum - ECPv6.15.16//NONSGML v1.0//EN
CALSCALE:GREGORIAN
METHOD:PUBLISH
X-WR-CALNAME:Bodegas y Viñedos Verum
X-ORIGINAL-URL:https://bodegasverum.com
X-WR-CALDESC:Eventos para Bodegas y Viñedos Verum
REFRESH-INTERVAL;VALUE=DURATION:PT1H
X-Robots-Tag:noindex
X-PUBLISHED-TTL:PT1H
BEGIN:VTIMEZONE
TZID:UTC
BEGIN:STANDARD
TZOFFSETFROM:+0000
TZOFFSETTO:+0000
TZNAME:UTC
DTSTART:20250101T000000
END:STANDARD
END:VTIMEZONE
BEGIN:VEVENT
DTSTART;VALUE=DATE:20260309
DTEND;VALUE=DATE:20260310
DTSTAMP:20260422T012622
CREATED:20260223T170918Z
LAST-MODIFIED:20260223T171153Z
UID:24129-1773014400-1773100799@bodegasverum.com
SUMMARY:BODEGAS VERUM EN EL VI SALÓN MIVIL VINOS EN MADRID
DESCRIPTION:Bodegas Verum estará presente en el VI Salón MIBIL Vinos\, una cita muy especial que celebra el 20 aniversario de Distribuciones MIBIL\, nuestro primer distribuidor y compañero de viaje desde los inicios de este proyecto. \nDurante estas dos décadas hemos crecido juntos\, compartiendo una misma visión: llevar vinos de calidad\, autenticidad y territorio a los que buscan salirse de lo convencional en Madrid. \nMIBIL ha sido clave en la consolidación de Verum en la capital\, apostando desde el primer día por nuestra filosofía de respeto al origen y excelencia. \nEn este salón presentaremos nuestras últimas añadas y proyectos más singulares\, con especial protagonismo para nuestros vinos de parcela y elaboraciones que reflejan la identidad del viñedo manchego\, además de nuestros proyectos en La Rioja y Verum Patagonia. \nInvitamos a todos los profesionales del sector a acercarse a conocer a uno de los distribuidores más exclusivos y especializados de Madrid\, y a descubrir de primera mano nuestra selección de vinos. \nFecha: 9 de marzo\nLugar: Espacio Larra\, Calle de Larra 14 Madrid \nTe esperamos para brindar por 20 años de confianza\, territorio y grandes vinos. \n  \n  \n \n 
URL:https://bodegasverum.com/evento/bodegas-verum-en-el-vi-salon-mivil-vinos-en-madrid/
CATEGORIES:SALONES Y EXPOSICIONES
ATTACH;FMTTYPE=image/jpeg:https://bodegasverum.com/wp-content/uploads/2026/02/salon-mibil.jpg
END:VEVENT
END:VCALENDAR