BEGIN:VCALENDAR
VERSION:2.0
PRODID:-//Bodegas y Viñedos Verum - ECPv6.15.16//NONSGML v1.0//EN
CALSCALE:GREGORIAN
METHOD:PUBLISH
X-WR-CALNAME:Bodegas y Viñedos Verum
X-ORIGINAL-URL:https://bodegasverum.com
X-WR-CALDESC:Eventos para Bodegas y Viñedos Verum
REFRESH-INTERVAL;VALUE=DURATION:PT1H
X-Robots-Tag:noindex
X-PUBLISHED-TTL:PT1H
BEGIN:VTIMEZONE
TZID:UTC
BEGIN:STANDARD
TZOFFSETFROM:+0000
TZOFFSETTO:+0000
TZNAME:UTC
DTSTART:20250101T000000
END:STANDARD
END:VTIMEZONE
BEGIN:VEVENT
DTSTART;VALUE=DATE:20260202
DTEND;VALUE=DATE:20260205
DTSTAMP:20260422T012126
CREATED:20260126T132658Z
LAST-MODIFIED:20260126T132658Z
UID:24085-1769990400-1770249599@bodegasverum.com
SUMMARY:VERUM EN BARCELONA WINE WEEK 2026
DESCRIPTION:Bodegas Verum estará presente como expositor en Barcelona Wine Week\, el gran escaparate internacional del vino español\, una cita imprescindible para profesionales del sector\, prescriptores y amantes del vino. \nDurante el evento presentaremos nuestras últimas añadas y proyectos más singulares\, con especial protagonismo para nuestros vinos de parcela y elaboraciones que reflejan la identidad del viñedo manchego\, el respeto por el origen y nuestra apuesta por variedades históricas como la Airén. \nSerá una excelente oportunidad para descubrir de primera mano la filosofía Verum\, catar nuestras referencias más emblemáticas y conocer las novedades que están marcando el rumbo de la bodega. \n📍 Ubicación del stand:Montjuïc 1 – Pabellón 8 – Nivel 0 – Calle F – Stand 200 \nTe esperamos para compartir copa\, territorio y conversación.
URL:https://bodegasverum.com/evento/verum-en-barcelona-wine-week-2026/
LOCATION:BARCELONA WINE WEEK\, Av. de la Reina Maria Cristina\, s/n\, Sants-Montjuïc\, Barcelona\, BARCELONA\, 08004\, Spain
CATEGORIES:SALONES Y EXPOSICIONES
ATTACH;FMTTYPE=image/jpeg:https://bodegasverum.com/wp-content/uploads/2026/01/xbww-2-1.jpg
END:VEVENT
BEGIN:VEVENT
DTSTART;TZID=UTC:20260203T163000
DTEND;TZID=UTC:20260203T173000
DTSTAMP:20260422T012126
CREATED:20260123T095857Z
LAST-MODIFIED:20260123T095857Z
UID:24075-1770136200-1770139800@bodegasverum.com
SUMMARY:Verum Las Tinadas Airén Cuvée Especial CVC en la cata de JANCIS ROBINSON en Barcelona Wine Week 2026
DESCRIPTION:En esta cata\, Jancs Robinson ofrecerá un recorrido por algunos de los vinos que han marcado tendencia en las últimas décadas\, poniendo el foco en las personas detrás de cada botella. Una reflexión sobre cómo el factor humano aporta identidad e imprime carácter\, demostrando que el terroir sin cultura acaba por no ser terroir. Durante la sesión se catarán algunos de los vinos españoles mejor valorados en www.jancisrobinson.com \nSe catarán: \n– Rafael Palacios O Soro 2023 \n– Verum las Tinadas Cuvee Especial NV \n– Lopez de Haro Clasico Rosado GR 2013 \n– Gramona Celler Batlle 2015 \n– Vega Sicilia Único 2015 \n– Celler del Roure Ferrero i Sení­s la Pebrella 2023
URL:https://bodegasverum.com/evento/verum-las-tinadas-airen-cuvee-especial-cvc-en-la-cata-de-jancis-robinson-en-barcelona-wine-week-2026/
LOCATION:BARCELONA WINE WEEK\, Av. de la Reina Maria Cristina\, s/n\, Sants-Montjuïc\, Barcelona\, BARCELONA\, 08004\, Spain
CATEGORIES:SALONES Y EXPOSICIONES
ATTACH;FMTTYPE=image/jpeg:https://bodegasverum.com/wp-content/uploads/2026/01/BWW-CATA-JANCIS-ROBINSON.jpg
END:VEVENT
BEGIN:VEVENT
DTSTART;VALUE=DATE:20260209
DTEND;VALUE=DATE:20260212
DTSTAMP:20260422T012126
CREATED:20260126T133157Z
LAST-MODIFIED:20260126T133157Z
UID:24090-1770595200-1770854399@bodegasverum.com
SUMMARY:Bodegas Verum en Wine Paris
DESCRIPTION:Bodegas Verum participará como expositor en Wine Paris\, uno de los encuentros profesionales más influyentes del calendario vitivinícola internacional y punto de encuentro clave para importadores\, distribuidores\, prescriptores y compradores de todo el mundo. \nEn esta edición presentaremos una cuidada selección de nuestras últimas añadas\, con especial atención a nuestros vinos de parcela y proyectos más personales\, que expresan con precisión el carácter del viñedo\, la identidad del origen y nuestra visión contemporánea del vino. Una oportunidad única para descubrir el trabajo de Verum tanto en Castilla-La Mancha como en otras regiones vitícolas donde desarrollamos proyectos singulares. \nTe esperamos para catar\, conversar y compartir nuestra filosofía de elaboración basada en el respeto al terroir\, las variedades históricas y la mínima intervención. \n📍 Ubicación del stand:Wine Paris – Hall 7.1 – Stand G023
URL:https://bodegasverum.com/evento/bodegas-verum-en-wine-paris/
LOCATION:WINE PARIS\, 1 place de la Porte de Versailles\, PARIS\, PARÍS\, 75015\, France
CATEGORIES:SALONES Y EXPOSICIONES
ATTACH;FMTTYPE=image/jpeg:https://bodegasverum.com/wp-content/uploads/2026/01/xWINE-PARIS-POST.jpg
END:VEVENT
END:VCALENDAR